BEGIN:VCALENDAR
VERSION:2.0
PRODID:-//Plympton Flyers - ECPv6.15.20//NONSGML v1.0//EN
CALSCALE:GREGORIAN
METHOD:PUBLISH
X-ORIGINAL-URL:https://plymptonflyers.com
X-WR-CALDESC:Events for Plympton Flyers
REFRESH-INTERVAL;VALUE=DURATION:PT1H
X-Robots-Tag:noindex
X-PUBLISHED-TTL:PT1H
BEGIN:VTIMEZONE
TZID:Australia/Adelaide
BEGIN:STANDARD
TZOFFSETFROM:+1030
TZOFFSETTO:+0930
TZNAME:ACST
DTSTART:20240406T163000
END:STANDARD
BEGIN:DAYLIGHT
TZOFFSETFROM:+0930
TZOFFSETTO:+1030
TZNAME:ACDT
DTSTART:20241005T163000
END:DAYLIGHT
BEGIN:STANDARD
TZOFFSETFROM:+1030
TZOFFSETTO:+0930
TZNAME:ACST
DTSTART:20250405T163000
END:STANDARD
BEGIN:DAYLIGHT
TZOFFSETFROM:+0930
TZOFFSETTO:+1030
TZNAME:ACDT
DTSTART:20251004T163000
END:DAYLIGHT
BEGIN:STANDARD
TZOFFSETFROM:+1030
TZOFFSETTO:+0930
TZNAME:ACST
DTSTART:20260404T163000
END:STANDARD
BEGIN:DAYLIGHT
TZOFFSETFROM:+0930
TZOFFSETTO:+1030
TZNAME:ACDT
DTSTART:20261003T163000
END:DAYLIGHT
END:VTIMEZONE
BEGIN:VEVENT
DTSTART;TZID=Australia/Adelaide:20251202T170000
DTEND;TZID=Australia/Adelaide:20251202T190000
DTSTAMP:20260421T103948
CREATED:20251106T093830Z
LAST-MODIFIED:20251106T095552Z
UID:10788-1764694800-1764702000@plymptonflyers.com
SUMMARY:Relay Training - General Passing & Receiving Night 1
DESCRIPTION:Whether you are new to relays or looking to sharpen your skills\, this session is for you!  We will focus on: \nEffective baton change techniques for the 4×100 and 4×200 – we will take you through the differences. \nPlacement and merging strategy for the 4x200m. \nSprinting form and transitions. \nTalking about how much fun you are going to have on relay day! \n 
URL:https://plymptonflyers.com/event/relay-training-general-passing-receiving/
CATEGORIES:Training
END:VEVENT
BEGIN:VEVENT
DTSTART;TZID=Australia/Adelaide:20251203T170000
DTEND;TZID=Australia/Adelaide:20251203T190000
DTSTAMP:20260421T103948
CREATED:20251106T094057Z
LAST-MODIFIED:20251106T095606Z
UID:10791-1764781200-1764788400@plymptonflyers.com
SUMMARY:Relay Training – General Passing & Receiving Night 2
DESCRIPTION:Whether you are new to relays or looking to sharpen your skills\, this session is for you!  We will focus on: \nEffective baton change techniques for the 4×100 and 4×200 – we will take you through the differences. \nPlacement and merging strategy for the 4x200m. \nSprinting form and transitions. \nTalking about how much fun you are going to have on relay day!
URL:https://plymptonflyers.com/event/relay-training-general-passing-receiving-2/
CATEGORIES:Training
END:VEVENT
BEGIN:VEVENT
DTSTART;TZID=Australia/Adelaide:20251207T074500
DTEND;TZID=Australia/Adelaide:20251207T110000
DTSTAMP:20260421T103948
CREATED:20251125T192018Z
LAST-MODIFIED:20251125T192018Z
UID:10828-1765093500-1765105200@plymptonflyers.com
SUMMARY:Weekly Competition - Meet 7 - Christmas Meet
DESCRIPTION:🎄 Plympton Little Athletics Christmas Meet 🎄 \nJoin us for a few fun-filled hours for the whole family! \nWhat’s happening? \n✅ Special visit from Santa – he might even join in for an event or two (only field events though\, as his knees are shot from too much Santa football) \n✅ Exciting all age challenges by our sponsor D8 Training: \n\nTug of War\nStrongest Grip\nHighest Jump\nFurthest Throw\n\n✅ Family Relay Fun: \n\nFamily Relay 4x50m– enter a team of 4 that you are related to (or want to be related to because they are really fast).\nMums & Dads 4x100m Relay – who can take the Mum’s and Dad’s on and win?!!\n\n✅ Free Ice blocks to keep cool\n✅ Face painting for the kids (and kids at heart) \n✅ Christmas raffle with amazing Christmas themed prizes! \n🎅 Don’t miss this chance to celebrate the season with friends\, family\, and athletics fun!
URL:https://plymptonflyers.com/event/weekly-competition-meet-7-christmas-meet/
CATEGORIES:Home Meet
END:VEVENT
BEGIN:VEVENT
DTSTART;TZID=Australia/Adelaide:20251209T170000
DTEND;TZID=Australia/Adelaide:20251209T190000
DTSTAMP:20260421T103948
CREATED:20251106T095136Z
LAST-MODIFIED:20251106T095136Z
UID:10793-1765299600-1765306800@plymptonflyers.com
SUMMARY:Mandatory Relay Training Night 1
DESCRIPTION:💥 Let’s show the competition what Plympton is made of — speed\, spirit\, and teamwork! \nTonight is not just any relay training night – you will run with your team in your official relay order\, practising those slick baton changes and build that unbreakable team vibe! \nWhether you are the lightning-fast starter\, the smooth as silk middle runners or the anchor with nerves of steel- we need you there! \nAttendance is a must – so mark your calendars\, bring your best energy and let’s get relay ready! \nRelay Team Managers will decide whether their teams will come out tonight or Thursday 11 December (or both)! \n💚💛 Go Plympton!
URL:https://plymptonflyers.com/event/mandatory-relay-training-night-1/
CATEGORIES:Training
END:VEVENT
BEGIN:VEVENT
DTSTART;TZID=Australia/Adelaide:20251211T170000
DTEND;TZID=Australia/Adelaide:20251211T190000
DTSTAMP:20260421T103948
CREATED:20251106T095518Z
LAST-MODIFIED:20251106T095518Z
UID:10800-1765472400-1765479600@plymptonflyers.com
SUMMARY:Mandatory Relay Training Night 2
DESCRIPTION: Let’s show the competition what Plympton is made of — speed\, spirit\, and teamwork! \nTonight is not just any relay training night – you will run with your team in your official relay order\, practising those slick baton changes and build that unbreakable team vibe! \nWhether you are the lightning-fast starter\, the smooth as silk middle runners or the anchor with nerves of steel- we need you there! \nAttendance is a must – so mark your calendars\, bring your best energy and let’s get relay ready! \nRelay Team Managers will decide whether their teams will come out Tuesday 9 or Thursday 11 December (or both)! \n Go Plympton!
URL:https://plymptonflyers.com/event/mandatory-relay-training-night-2/
CATEGORIES:Training
END:VEVENT
END:VCALENDAR