BEGIN:VCALENDAR
VERSION:2.0
PRODID:-//Plympton Flyers - ECPv6.15.20//NONSGML v1.0//EN
CALSCALE:GREGORIAN
METHOD:PUBLISH
X-WR-CALNAME:Plympton Flyers
X-ORIGINAL-URL:https://plymptonflyers.com
X-WR-CALDESC:Events for Plympton Flyers
REFRESH-INTERVAL;VALUE=DURATION:PT1H
X-Robots-Tag:noindex
X-PUBLISHED-TTL:PT1H
BEGIN:VTIMEZONE
TZID:Australia/Adelaide
BEGIN:STANDARD
TZOFFSETFROM:+1030
TZOFFSETTO:+0930
TZNAME:ACST
DTSTART:20240406T163000
END:STANDARD
BEGIN:DAYLIGHT
TZOFFSETFROM:+0930
TZOFFSETTO:+1030
TZNAME:ACDT
DTSTART:20241005T163000
END:DAYLIGHT
BEGIN:STANDARD
TZOFFSETFROM:+1030
TZOFFSETTO:+0930
TZNAME:ACST
DTSTART:20250405T163000
END:STANDARD
BEGIN:DAYLIGHT
TZOFFSETFROM:+0930
TZOFFSETTO:+1030
TZNAME:ACDT
DTSTART:20251004T163000
END:DAYLIGHT
BEGIN:STANDARD
TZOFFSETFROM:+1030
TZOFFSETTO:+0930
TZNAME:ACST
DTSTART:20260404T163000
END:STANDARD
BEGIN:DAYLIGHT
TZOFFSETFROM:+0930
TZOFFSETTO:+1030
TZNAME:ACDT
DTSTART:20261003T163000
END:DAYLIGHT
END:VTIMEZONE
BEGIN:VEVENT
DTSTART;TZID=Australia/Adelaide:20251028T170000
DTEND;TZID=Australia/Adelaide:20251028T180000
DTSTAMP:20260421T121933
CREATED:20251026T052649Z
LAST-MODIFIED:20251027T012057Z
UID:10681-1761670800-1761674400@plymptonflyers.com
SUMMARY:Weekly Training 28 October 2025
DESCRIPTION:Coach Jack:  Will be taking Triple Jump for Little Athletes u11 and up this week. At training\, he is also looking for excellent triple jump jokes such as – What’s a triple jumper’s favorite type of music? Hip hop\, skip and jump! \nCoach Steve: Will be doing two sessions in one this week. From 5.15-5.35pm he will be taking a general discus clinic for those new to discus. From 5.35-6.05pm he will be taking the more experienced discus athletes through their paces. \nCoach Samantha: Will be focusing on acceleration\, deceleration and speed endurance with a number of 90m and 120m reps. \nCoach Scott: Will be taking a session on demand – it could be Javelin or hurdles or middle distance!  To customise your training session\, contact Coach Scott directly.
URL:https://plymptonflyers.com/event/weekly-training-28-october-2025/
LOCATION:Hamilton Secondary College\, 815 Marion Road\, Mitchell Park\, SA\, 5039\, Australia
CATEGORIES:Training
END:VEVENT
BEGIN:VEVENT
DTSTART;TZID=Australia/Adelaide:20251026T084500
DTEND;TZID=Australia/Adelaide:20251026T110000
DTSTAMP:20260421T121933
CREATED:20250829T125836Z
LAST-MODIFIED:20251015T083340Z
UID:10469-1761468300-1761476400@plymptonflyers.com
SUMMARY:Weekly Competition - Home Meet 2
DESCRIPTION:Home Meet 2 – Program 2
URL:https://plymptonflyers.com/event/weekly-competition-home-meet-3/
LOCATION:Hamilton Secondary College\, 815 Marion Road\, Mitchell Park\, SA\, 5039\, Australia
CATEGORIES:Home Meet
END:VEVENT
BEGIN:VEVENT
DTSTART;TZID=Australia/Adelaide:20251021T170000
DTEND;TZID=Australia/Adelaide:20251021T180000
DTSTAMP:20260421T121933
CREATED:20250830T045420Z
LAST-MODIFIED:20251020T093139Z
UID:10477-1761066000-1761069600@plymptonflyers.com
SUMMARY:Weekly Training
DESCRIPTION:Sprints: U9 and up – Coach Samantha will focus on longer sprint reps in a Swedish relay format – this will be a challenging session\, so a good sleep and nutritious dinner will be essential. \nThrows: U9 and up – Coach Steve will be guiding our Little Athletes through the basics of Shot Put. \nJumps: U11 and up – Coach Jack will help our Little Athletes learn the fundamentals of the Triple Jump. \nU6-U8: Coach Scott will be taking little ones through the basics of run\, throw and jump – this will be on demand\, so if you intend on bringing out your Little Athlete for this session\, please let us know via secretary@plymptonflyers.com.
URL:https://plymptonflyers.com/event/weekly-training/
LOCATION:Hamilton Secondary College\, 815 Marion Road\, Mitchell Park\, SA\, 5039\, Australia
CATEGORIES:Coaching,Training
END:VEVENT
BEGIN:VEVENT
DTSTART;TZID=Australia/Adelaide:20251019T090000
DTEND;TZID=Australia/Adelaide:20251019T113000
DTSTAMP:20260421T121933
CREATED:20250829T125652Z
LAST-MODIFIED:20251015T015404Z
UID:10467-1760864400-1760873400@plymptonflyers.com
SUMMARY:Weekly Competition - Home Meet 2 **Postponed**
DESCRIPTION:Home Meet 2 has been postponed due to asbestos removal at Hamilton Secondary College\, there is no access permitted for safety. \nMeet 2 is rescheduled for Sunday\, October 26th. \nFor registered members: You are welcome to join our neighbours\, Coastal Districts this Friday evening\, 6:30 PM start time. \nCome and Try – You can ignore any automated expiry emails and we’ll see you at Hamilton on the 26th! \nThanks for your understanding.
URL:https://plymptonflyers.com/event/weekly-competition-home-meet-2/
LOCATION:Hamilton Secondary College\, 815 Marion Road\, Mitchell Park\, SA\, 5039\, Australia
CATEGORIES:Home Meet
END:VEVENT
BEGIN:VEVENT
DTSTART;TZID=Australia/Adelaide:20251014T170000
DTEND;TZID=Australia/Adelaide:20251014T180000
DTSTAMP:20260421T121933
CREATED:20250829T121733Z
LAST-MODIFIED:20251014T093052Z
UID:10461-1760461200-1760464800@plymptonflyers.com
SUMMARY:Weekly Training
DESCRIPTION:Sprints: Coach Samantha and Coach Kathy will focus on sprint technique and starts this week\, with lots of drills to remind little bodies what it is like to run really\, really fast (with good technique) \nThrows: Coach Steve will be focussing on mastering the basics early on. \nJumps: Coach Jack will be testing how long you can jump at the start of the season.
URL:https://plymptonflyers.com/event/training/
LOCATION:Hamilton Secondary College\, 815 Marion Road\, Mitchell Park\, SA\, 5039\, Australia
CATEGORIES:Coaching,Training
END:VEVENT
BEGIN:VEVENT
DTSTART;TZID=Australia/Adelaide:20251012T090000
DTEND;TZID=Australia/Adelaide:20251012T110000
DTSTAMP:20260421T121933
CREATED:20250829T120516Z
LAST-MODIFIED:20250829T123349Z
UID:10454-1760259600-1760266800@plymptonflyers.com
SUMMARY:Weekly Competition - Home Meet 1
DESCRIPTION:Home Meet 1 – Program 1
URL:https://plymptonflyers.com/event/weekly-competition-home-meet-1/
LOCATION:Hamilton Secondary College\, 815 Marion Road\, Mitchell Park\, SA\, 5039\, Australia
CATEGORIES:Home Meet
END:VEVENT
BEGIN:VEVENT
DTSTART;TZID=Australia/Adelaide:20251005T093000
DTEND;TZID=Australia/Adelaide:20251005T110000
DTSTAMP:20260421T121933
CREATED:20250829T120303Z
LAST-MODIFIED:20251001T063327Z
UID:10452-1759656600-1759662000@plymptonflyers.com
SUMMARY:Registration pack pick up
DESCRIPTION:Rego pack collection from 9:30-11:00 for those who’ve registered\, plus uniform pickup and sales. \nWe will have a waffle and spike stand this year\, where you can pick your new waffles at a bargain price of $15 (and donate your old waffles/spikes in good condition to the club for fundraising). \nCoach Samantha will be running an introductory sprint session from 10.15-11.15am – all welcome to attend (including any big person who looks after you and wants to learn the basics!) \n 
URL:https://plymptonflyers.com/event/registration-pack-pick-up/
LOCATION:Hamilton Secondary College\, 815 Marion Road\, Mitchell Park\, SA\, 5039\, Australia
CATEGORIES:Pre-season
END:VEVENT
END:VCALENDAR