BEGIN:VCALENDAR
VERSION:2.0
PRODID:-//Plympton Flyers - ECPv6.15.20//NONSGML v1.0//EN
CALSCALE:GREGORIAN
METHOD:PUBLISH
X-WR-CALNAME:Plympton Flyers
X-ORIGINAL-URL:https://plymptonflyers.com
X-WR-CALDESC:Events for Plympton Flyers
REFRESH-INTERVAL;VALUE=DURATION:PT1H
X-Robots-Tag:noindex
X-PUBLISHED-TTL:PT1H
BEGIN:VTIMEZONE
TZID:Australia/Adelaide
BEGIN:STANDARD
TZOFFSETFROM:+1030
TZOFFSETTO:+0930
TZNAME:ACST
DTSTART:20250405T163000
END:STANDARD
BEGIN:DAYLIGHT
TZOFFSETFROM:+0930
TZOFFSETTO:+1030
TZNAME:ACDT
DTSTART:20251004T163000
END:DAYLIGHT
BEGIN:STANDARD
TZOFFSETFROM:+1030
TZOFFSETTO:+0930
TZNAME:ACST
DTSTART:20260404T163000
END:STANDARD
BEGIN:DAYLIGHT
TZOFFSETFROM:+0930
TZOFFSETTO:+1030
TZNAME:ACDT
DTSTART:20261003T163000
END:DAYLIGHT
BEGIN:STANDARD
TZOFFSETFROM:+1030
TZOFFSETTO:+0930
TZNAME:ACST
DTSTART:20270403T163000
END:STANDARD
BEGIN:DAYLIGHT
TZOFFSETFROM:+0930
TZOFFSETTO:+1030
TZNAME:ACDT
DTSTART:20271002T163000
END:DAYLIGHT
END:VTIMEZONE
BEGIN:VEVENT
DTSTART;TZID=Australia/Adelaide:20260310T170000
DTEND;TZID=Australia/Adelaide:20260310T180000
DTSTAMP:20260421T084245
CREATED:20260305T032634Z
LAST-MODIFIED:20260310T214434Z
UID:10948-1773162000-1773165600@plymptonflyers.com
SUMMARY:Weekly Training - 10 March 2026
DESCRIPTION:🌟 Plympton Flyers – Second to Last Training for the 25/26 Summer Season! 🌟 \n\nTonight’s session is for athletes aged 8+ who will be competing at the State Championships. Let’s make the most of these final opportunities to sharpen skills and fine‑tune technique before the big weekends! 💪💛💙 \nEvent‑specific coaching:\n• Coach Steve – Discus or Shot Put (depending on numbers)\n• Coach Samantha and Coach Chris – Full warm up (including a run through of what to do marshalling and lining up on the track) followed by a descending ladder from 500m down to 50m\, getting faster each rep and focusing on strong form and speed through the final 20m 🚀 \nBring your best effort\, stay focused\, and let’s finish the season strong! 🙌✨ \n#PlymptonFlyers #LittleAthleticsSA #StateChampsReady #TeamFlyers
URL:https://plymptonflyers.com/event/weekly-training-10-march-2026/
CATEGORIES:Training
END:VEVENT
BEGIN:VEVENT
DTSTART;TZID=Australia/Adelaide:20260317T170000
DTEND;TZID=Australia/Adelaide:20260317T180000
DTSTAMP:20260421T084245
CREATED:20260310T214413Z
LAST-MODIFIED:20260310T214413Z
UID:10951-1773766800-1773770400@plymptonflyers.com
SUMMARY:Weekly Training - 17 March 2026
DESCRIPTION:📣 Final Training Session Before State Championships! 🏃‍♀️🏃‍♂️✨ \n\nParents\, if your athlete is competing at the State Championships and is 8+\, this is the last chance for a focused tune‑up session! \n🕔 Training: 5–6pm\n🎯 Strictly for State Champs athletes (U8 and above) \nOur coaching team will be running targeted\, event-specific training to keep athletes sharp and confident: \n💥 Coach Jack – Triple Jump & Long Jump\n💥 Coach Steve – Shot Put & Discus\n💥 Coach Samantha & Coach Chris – Sprints \n\nShort & sharp\nFocus on starts and mobility\nKeeping legs fresh for the big weekend!\n\nThis is a great opportunity for athletes to get in one last short quality session before competing. Let’s finish the season strong\, Flyers! 💙💛✈️
URL:https://plymptonflyers.com/event/weekly-training-17-march-2026/
CATEGORIES:Training
END:VEVENT
BEGIN:VEVENT
DTSTART;TZID=Australia/Adelaide:20260329T090000
DTEND;TZID=Australia/Adelaide:20260329T110000
DTSTAMP:20260421T084245
CREATED:20260201T051338Z
LAST-MODIFIED:20260201T051338Z
UID:10905-1774774800-1774782000@plymptonflyers.com
SUMMARY:End of Season Celebration - 29 March 2026
DESCRIPTION:🎉 End of Season Celebration – You’re Invited! 🎉 \n\nJoin us Sunday 29 March 2026\, 9–11am as we come together to celebrate another incredible Little Athletics season for Plympton Flyers 💙 \nWe’ll be handing out age group medals\, announcing our Athlete of the Year\, drawing some epic raffle prizes\, and enjoying a short wrap‑up from our President reflecting on a fantastic year gone by. \n🔥 Don’t miss the Plympton Gift – a thrilling 100m handicapped race featuring our fastest athletes! \nAdd in a sausage sizzle 🌭\, free iceblocks 🍦\, plenty of smiles\, and great company\, and you’ve got the perfect morning to celebrate our athletes\, families\, volunteers and the amazing community that makes Plympton flyers so special. \nBring the whole family and help us finish the season the best way possible – together! 🏃‍♀️🏃‍♂️✨
URL:https://plymptonflyers.com/event/end-of-season-celebration-29-march-2026/
END:VEVENT
END:VCALENDAR